BEGIN:VCALENDAR
VERSION:2.0
PRODID:-//LACabane Muntelier - ECPv6.15.20//NONSGML v1.0//EN
CALSCALE:GREGORIAN
METHOD:PUBLISH
X-WR-CALNAME:LACabane Muntelier
X-ORIGINAL-URL:https://www.lacabane-muntelier.ch/de_CH
X-WR-CALDESC:Veranstaltungen im LACabane Muntelier
REFRESH-INTERVAL;VALUE=DURATION:PT1H
X-Robots-Tag:noindex
X-PUBLISHED-TTL:PT1H
BEGIN:VTIMEZONE
TZID:Europe/Berlin
BEGIN:DAYLIGHT
TZOFFSETFROM:+0100
TZOFFSETTO:+0200
TZNAME:CEST
DTSTART:20240331T010000
END:DAYLIGHT
BEGIN:STANDARD
TZOFFSETFROM:+0200
TZOFFSETTO:+0100
TZNAME:CET
DTSTART:20241027T010000
END:STANDARD
BEGIN:DAYLIGHT
TZOFFSETFROM:+0100
TZOFFSETTO:+0200
TZNAME:CEST
DTSTART:20250330T010000
END:DAYLIGHT
BEGIN:STANDARD
TZOFFSETFROM:+0200
TZOFFSETTO:+0100
TZNAME:CET
DTSTART:20251026T010000
END:STANDARD
BEGIN:DAYLIGHT
TZOFFSETFROM:+0100
TZOFFSETTO:+0200
TZNAME:CEST
DTSTART:20260329T010000
END:DAYLIGHT
BEGIN:STANDARD
TZOFFSETFROM:+0200
TZOFFSETTO:+0100
TZNAME:CET
DTSTART:20261025T010000
END:STANDARD
END:VTIMEZONE
BEGIN:VEVENT
DTSTART;VALUE=DATE:20250824
DTEND;VALUE=DATE:20250909
DTSTAMP:20260422T133228
CREATED:20250516T134738Z
LAST-MODIFIED:20250814T093647Z
UID:5521-1756029600-1757325599@www.lacabane-muntelier.ch
SUMMARY:Hans Leiser - Farbix am Murtensee - Aug/Sep
DESCRIPTION:Hans Leis­er malt Bilder und gestal­tet viel mit Holz und Farbe und sagt: «Was ich nicht ver­lieren möchte\, ist die Freude am Malen\, Exper­i­men­tieren und Gestal­ten\, das Lachen auch über mich\, das Bal­ancieren zwis­chen Tiefe und Ober­fläche\, und manch­mal darf es auch etwas schräg sein…» \n 
URL:https://www.lacabane-muntelier.ch/de_CH/events/hans-leiser-bilder-und-skulpturen-aug-sep/
LOCATION:LACabane
ATTACH;FMTTYPE=image/png:https://www.lacabane-muntelier.ch/wordpress/wp-content/uploads/2025/05/Hans-Leiser-Aug.-Sept.-25-e1755164130655.png
ORGANIZER;CN="Verein LACabane":MAILTO:info@lacabane-muntelier.ch
END:VEVENT
BEGIN:VEVENT
DTSTART;VALUE=DATE:20250910
DTEND;VALUE=DATE:20250923
DTSTAMP:20260422T133228
CREATED:20250516T134947Z
LAST-MODIFIED:20250814T101728Z
UID:5523-1757498400-1758535199@www.lacabane-muntelier.ch
SUMMARY:Anna-Katharia Condé - Keramik und Collagen - Sep
DESCRIPTION:
URL:https://www.lacabane-muntelier.ch/de_CH/events/anna-katharia-conde-bilderausstellung-sep/
LOCATION:LACabane
CATEGORIES:Ausstellung
ATTACH;FMTTYPE=image/jpeg:https://www.lacabane-muntelier.ch/wordpress/wp-content/uploads/2025/05/1751896653282-e1755166544891.jpg
ORGANIZER;CN="Verein LACabane":MAILTO:info@lacabane-muntelier.ch
END:VEVENT
BEGIN:VEVENT
DTSTART;VALUE=DATE:20250927
DTEND;VALUE=DATE:20250930
DTSTAMP:20260422T133228
CREATED:20250516T140005Z
LAST-MODIFIED:20250907T151126Z
UID:5528-1758967200-1759139999@www.lacabane-muntelier.ch
SUMMARY:Andrea Schumacher\, Viviane Graf und Mireille Tcherevatch - gemeinsame Ausstellung - Sep
DESCRIPTION:
URL:https://www.lacabane-muntelier.ch/de_CH/events/andrea-schumacher-bilderausstellung-sep-2/
ATTACH;FMTTYPE=image/png:https://www.lacabane-muntelier.ch/wordpress/wp-content/uploads/2025/05/Bildschirmfoto-2025-09-07-um-17.04.20.png
END:VEVENT
END:VCALENDAR